BEGIN:VCALENDAR
VERSION:2.0
PRODID:-// - ECPv6.15.20//NONSGML v1.0//EN
CALSCALE:GREGORIAN
METHOD:PUBLISH
X-ORIGINAL-URL:https://www.mmarau.ac.ke
X-WR-CALDESC:Events for 
REFRESH-INTERVAL;VALUE=DURATION:PT1H
X-Robots-Tag:noindex
X-PUBLISHED-TTL:PT1H
BEGIN:VTIMEZONE
TZID:Africa/Nairobi
BEGIN:STANDARD
TZOFFSETFROM:+0300
TZOFFSETTO:+0300
TZNAME:EAT
DTSTART:20240101T000000
END:STANDARD
END:VTIMEZONE
BEGIN:VEVENT
DTSTART;TZID=Africa/Nairobi:20250526T090000
DTEND;TZID=Africa/Nairobi:20250526T170000
DTSTAMP:20260422T072759
CREATED:20250516T115302Z
LAST-MODIFIED:20250516T123110Z
UID:45000-1748250000-1748278800@www.mmarau.ac.ke
SUMMARY:SOCIAL WORK WORKSHOP
DESCRIPTION:This workshop\, part of the exchange program between the University of Tennessee\, Knoxville\, and Maasai Mara University\, aims to strengthen ties between the two universities. Attendees will have the opportunity to share insights on green social work\, Gender-Based Violence\, including femicide\, and post-partum depression. \nWorkshop Topics \n\nGroup Presentation: Green Social Work: Building Sustainable Development in Kenya Through the Conservation of Mau Forest Complex Water Tower (Glady Mutia & Stacy Namweyi\, MSW Students & Kennedy K. Onyiko)\nIndividual Presentations: \n\n\n\nPerceptions and Attitudes Towards Victim Blaming In Femicide Cases in Nairobi County\, Kenya – Glady Mutia – MSW Student \nPostpartum Depression among Teenage Mothers in Kenya – Stacy Namweyi\, MSW Student\n\n\n\n\n\nDon’t miss out on this unique opportunity!
URL:https://www.mmarau.ac.ke/event/social-work-workshop/
LOCATION:Maasai Mara University\, 861\, Narok\, 20500\, Kenya
END:VEVENT
END:VCALENDAR